BEGIN:VCALENDAR
VERSION:2.0
PRODID:-//ChamberMaster//Event Calendar 2.0//EN
METHOD:PUBLISH
X-PUBLISHED-TTL:P3D
REFRESH-INTERVAL:P3D
CALSCALE:GREGORIAN
BEGIN:VEVENT
DTSTART:20230726T010000Z
DTEND:20230726T020000Z
X-MICROSOFT-CDO-ALLDAYEVENT:FALSE
SUMMARY:2023 Q3 ASEAN Committee Meeting & 1st Planning Call for 2023 Business Mission to the AEM
DESCRIPTION:
X-ALT-DESC;FMTTYPE=text/html:
LOCATION:Virtual
UID:e.9078.9071
SEQUENCE:3
DTSTAMP:20230730T231419Z
URL:http://usasean.memberzone.com/events/details/2023-q3-asean-committee-meeting-1st-planning-call-for-2023-business-mission-to-the-aem-9071
END:VEVENT

END:VCALENDAR
