BEGIN:VCALENDAR
VERSION:2.0
PRODID:-//ChamberMaster//Event Calendar 2.0//EN
METHOD:PUBLISH
X-PUBLISHED-TTL:P3D
REFRESH-INTERVAL:P3D
CALSCALE:GREGORIAN
BEGIN:VEVENT
DTSTART:20230601T010000Z
DTEND:20230601T020000Z
X-MICROSOFT-CDO-ALLDAYEVENT:FALSE
SUMMARY:2023 Singapore Business Mission Planning Call # 1
DESCRIPTION:The 2023 Singapore Business Mission Planning Call # 1 will discuss details relevant to the upcoming 2023 Singapore Business Mission. Topics include mission themes\, proposed mission meetings\, mission fees\, mission materials\, and other important information such as logistics and hotel bookings.
X-ALT-DESC;FMTTYPE=text/html:The 2023 Singapore Business Mission Planning Call # 1 will discuss details relevant to the upcoming 2023 Singapore Business Mission. Topics include mission themes\, proposed mission meetings\, mission fees\, mission materials\, and other important information such as logistics and hotel bookings.&nbsp\;
LOCATION:Virtual
UID:e.9078.9036
SEQUENCE:3
DTSTAMP:20230730T232052Z
URL:http://usasean.memberzone.com/events/details/2023-singapore-business-mission-planning-call-1-9036
END:VEVENT

END:VCALENDAR
