BEGIN:VCALENDAR
VERSION:2.0
PRODID:-//ChamberMaster//Event Calendar 2.0//EN
METHOD:PUBLISH
X-PUBLISHED-TTL:P3D
REFRESH-INTERVAL:P3D
CALSCALE:GREGORIAN
BEGIN:VEVENT
DTSTART:20230525T210000Z
DTEND:20230525T220000Z
X-MICROSOFT-CDO-ALLDAYEVENT:FALSE
SUMMARY:US-ABC and US Embassy Cyber Officers Networking Reception
DESCRIPTION:
X-ALT-DESC;FMTTYPE=text/html:
LOCATION:
UID:e.9078.9031
SEQUENCE:3
DTSTAMP:20230730T232030Z
URL:http://usasean.memberzone.com/events/details/us-abc-and-us-embassy-cyber-officers-networking-reception-9031
END:VEVENT

END:VCALENDAR
