BEGIN:VCALENDAR
VERSION:2.0
PRODID:-//ChamberMaster//Event Calendar 2.0//EN
METHOD:PUBLISH
X-PUBLISHED-TTL:P3D
REFRESH-INTERVAL:P3D
CALSCALE:GREGORIAN
BEGIN:VEVENT
DTSTART:20230518T010000Z
DTEND:20230518T021000Z
X-MICROSOFT-CDO-ALLDAYEVENT:FALSE
SUMMARY:2023 Q2 Philippines Committee Call
DESCRIPTION:The Philippines Committee will be holding its 2023 Q2 Committee Call this May. The Council has invited Atty. Ernesto Perez\, Director General of the Anti-Red Tape Authority (ARTA)\, to discuss the agency's new initiatives in line with its mandate to promote and ensure the ease of doing business in the Philippines.
X-ALT-DESC;FMTTYPE=text/html:The Philippines Committee will be holding its 2023 Q2 Committee Call this May. The Council has invited Atty. Ernesto Perez\, Director General of the Anti-Red Tape Authority (ARTA)\, to discuss the agency&#39\;s new initiatives in line with its mandate to promote and ensure the ease of doing business in the Philippines.
LOCATION:Virtual Zoom link to be provided upon registration
UID:e.9078.9025
SEQUENCE:3
DTSTAMP:20230730T232032Z
URL:http://usasean.memberzone.com/events/details/2023-q2-philippines-committee-call-9025
END:VEVENT

END:VCALENDAR
