BEGIN:VCALENDAR
VERSION:2.0
PRODID:-//ChamberMaster//Event Calendar 2.0//EN
METHOD:PUBLISH
X-PUBLISHED-TTL:P3D
REFRESH-INTERVAL:P3D
CALSCALE:GREGORIAN
BEGIN:VEVENT
DTSTART:20230510T130000Z
DTEND:20230510T143000Z
X-MICROSOFT-CDO-ALLDAYEVENT:FALSE
SUMMARY:2023 Indonesia and ASEAN Business Mission Second Planning Call - featuring an Economic Briefing by Amb Rosan Roeslani
DESCRIPTION:Second Planning Call for the \n\n			\n\n			2023 Indonesia Business Mission \n\n			\n\n			Featuring an Economic Briefing by Amb Rosan Roeslani
X-ALT-DESC;FMTTYPE=text/html:<table border="0" cellpadding="0" cellspacing="0" class="x_MsoNormalTable" id="x_invitation" style="caret-color: rgb(0\, 0\, 0)\; font-family: Calibri\; text-indent: 0px\; text-size-adjust: auto\; width: 487.5pt\;" width="650">\n	<tbody>\n		<tr>\n			<td colspan="3" id="x_event-info" style="padding: 15pt 0in\;">\n			<p class="x_MsoNormal" style="margin: 0in\; font-size: 10pt\; font-family: Calibri\, sans-serif\;">&nbsp\;</p>\n\n			<p class="x_MsoNormal" style="margin: 0in\; font-size: 10pt\; font-family: Calibri\, sans-serif\;"><span style="font-size:16px\;"><span style="font-family:arial\;"><b><span style="letter-spacing: 0.75pt\;">Second Planning Call for the&nbsp\;<br />\n			<br />\n			2023&nbsp\;Indonesia Business Mission&nbsp\;</span></b><br />\n			<br />\n			<b><span style="letter-spacing: 0.75pt\;">Featuring an Economic Briefing by Amb Rosan Roeslani</span></b></span></span><br />\n			<br />\n			&nbsp\;</p>\n			</td>\n		</tr>\n	</tbody>\n</table>\n
LOCATION:
UID:e.9078.9017
SEQUENCE:3
DTSTAMP:20230730T232005Z
URL:http://usasean.memberzone.com/events/details/2023-indonesia-and-asean-business-mission-second-planning-call-featuring-an-economic-briefing-by-amb-rosan-roeslani-9017
END:VEVENT

END:VCALENDAR
