BEGIN:VCALENDAR
VERSION:2.0
PRODID:-//ChamberMaster//Event Calendar 2.0//EN
METHOD:PUBLISH
X-PUBLISHED-TTL:P3D
REFRESH-INTERVAL:P3D
CALSCALE:GREGORIAN
BEGIN:VEVENT
DTSTART:20230505T010000Z
DTEND:20230505T023000Z
X-MICROSOFT-CDO-ALLDAYEVENT:FALSE
SUMMARY:2023 Q2 ICT Committee Call
DESCRIPTION:
X-ALT-DESC;FMTTYPE=text/html:
LOCATION:Virtual Call (Dial-in details will be sent to members registered for the call)
UID:e.9078.9014
SEQUENCE:3
DTSTAMP:20230730T231953Z
URL:http://usasean.memberzone.com/events/details/2023-q2-ict-committee-call-9014
END:VEVENT

END:VCALENDAR
