BEGIN:VCALENDAR
VERSION:2.0
PRODID:-//ChamberMaster//Event Calendar 2.0//EN
METHOD:PUBLISH
X-PUBLISHED-TTL:P3D
REFRESH-INTERVAL:P3D
CALSCALE:GREGORIAN
BEGIN:VEVENT
DTSTART:20230504T190000Z
DTEND:20230504T203000Z
X-MICROSOFT-CDO-ALLDAYEVENT:FALSE
SUMMARY:Economic Briefing with Governor Ridwan Kamil
DESCRIPTION:
X-ALT-DESC;FMTTYPE=text/html:
LOCATION:US-ABC\, office 1101 17th St NW Suite 411\, Washington\, DC 20036
UID:e.9078.9009
SEQUENCE:3
DTSTAMP:20230730T231959Z
URL:http://usasean.memberzone.com/events/details/roundtable-with-governor-ridwan-kamil-9009
END:VEVENT

END:VCALENDAR
