BEGIN:VCALENDAR
VERSION:2.0
PRODID:-//ChamberMaster//Event Calendar 2.0//EN
METHOD:PUBLISH
X-PUBLISHED-TTL:P3D
REFRESH-INTERVAL:P3D
CALSCALE:GREGORIAN
BEGIN:VEVENT
DTSTART:20230426T010000Z
DTEND:20230426T020000Z
X-MICROSOFT-CDO-ALLDAYEVENT:FALSE
SUMMARY:Q2 Singapore Committee Call 2023
DESCRIPTION:Q2 Singapore Committee Call to update Members on Singapore work plan and upcoming 2023 Singapore Business Mission on 18-20 July 2023
X-ALT-DESC;FMTTYPE=text/html:Q2 Singapore Committee Call to update Members on Singapore work plan and upcoming 2023 Singapore Business Mission on 18-20 July 2023
LOCATION:Virtual Meeting over Zoom
UID:e.9078.9007
SEQUENCE:3
DTSTAMP:20230730T232134Z
URL:http://usasean.memberzone.com/events/details/q2-singapore-committee-call-2023-9007
END:VEVENT

END:VCALENDAR
