BEGIN:VCALENDAR
VERSION:2.0
PRODID:-//ChamberMaster//Event Calendar 2.0//EN
METHOD:PUBLISH
X-PUBLISHED-TTL:P3D
REFRESH-INTERVAL:P3D
CALSCALE:GREGORIAN
BEGIN:VEVENT
DTSTART:20230418T010000Z
DTEND:20230418T020000Z
X-MICROSOFT-CDO-ALLDAYEVENT:FALSE
SUMMARY:Q2 ASEAN Committee Call & 1st Planning Call for 2023 ASEAN Business Mission
DESCRIPTION:
X-ALT-DESC;FMTTYPE=text/html:
LOCATION:Virtual
UID:e.9078.8998
SEQUENCE:3
DTSTAMP:20230730T232154Z
URL:http://usasean.memberzone.com/events/details/q2-asean-committee-call-1st-planning-call-for-2023-asean-business-mission-8998
END:VEVENT

END:VCALENDAR
