BEGIN:VCALENDAR
VERSION:2.0
PRODID:-//ChamberMaster//Event Calendar 2.0//EN
METHOD:PUBLISH
X-PUBLISHED-TTL:P3D
REFRESH-INTERVAL:P3D
CALSCALE:GREGORIAN
BEGIN:VEVENT
DTSTART:20230330T013000Z
DTEND:20230330T030000Z
X-MICROSOFT-CDO-ALLDAYEVENT:FALSE
SUMMARY:Q1 HLS Committee Meeting
DESCRIPTION:Q1 HLS Committee Meeting
X-ALT-DESC;FMTTYPE=text/html:Q1 HLS Committee Meeting&nbsp\;
LOCATION:Hybrid (Zoom & In Person\, Singapore)
UID:e.9078.8973
SEQUENCE:3
DTSTAMP:20230730T232214Z
URL:http://usasean.memberzone.com/events/details/q1-hls-committee-meeting-8973
END:VEVENT

END:VCALENDAR
