BEGIN:VCALENDAR
VERSION:2.0
PRODID:-//ChamberMaster//Event Calendar 2.0//EN
METHOD:PUBLISH
X-PUBLISHED-TTL:P3D
REFRESH-INTERVAL:P3D
CALSCALE:GREGORIAN
BEGIN:VEVENT
DTSTART:20230310T010000Z
DTEND:20230310T023000Z
X-MICROSOFT-CDO-ALLDAYEVENT:FALSE
SUMMARY:2023 Q1 ASEAN Committee Meeting
DESCRIPTION:
X-ALT-DESC;FMTTYPE=text/html:
LOCATION:
UID:e.9078.8958
SEQUENCE:3
DTSTAMP:20230730T232301Z
URL:http://usasean.memberzone.com/events/details/2023-q1-asean-committee-meeting-8958
END:VEVENT

END:VCALENDAR
