BEGIN:VCALENDAR
VERSION:2.0
PRODID:-//ChamberMaster//Event Calendar 2.0//EN
METHOD:PUBLISH
X-PUBLISHED-TTL:P3D
REFRESH-INTERVAL:P3D
CALSCALE:GREGORIAN
BEGIN:VEVENT
DTSTART:20230530T020000Z
DTEND:20230530T030000Z
X-MICROSOFT-CDO-ALLDAYEVENT:FALSE
SUMMARY:Virtual Briefing on Tourism Village with Indonesia's Ministry of Tourism and Creative Economy
DESCRIPTION:
X-ALT-DESC;FMTTYPE=text/html:
LOCATION:Zoom dial-in details will be provided upon registration
UID:e.9078.9029
SEQUENCE:3
DTSTAMP:20230730T231833Z
URL:http://usasean.memberzone.com/events/details/virtual-briefing-on-tourism-village-with-indonesia-s-ministry-of-tourism-and-creative-economy-9029
END:VEVENT

END:VCALENDAR
