BEGIN:VCALENDAR
VERSION:2.0
PRODID:-//ChamberMaster//Event Calendar 2.0//EN
METHOD:PUBLISH
X-PUBLISHED-TTL:P3D
REFRESH-INTERVAL:P3D
CALSCALE:GREGORIAN
BEGIN:VEVENT
DTSTART:20230621T180000Z
DTEND:20230621T190000Z
X-MICROSOFT-CDO-ALLDAYEVENT:FALSE
SUMMARY:Sustainability Roundtable on the UN Global Plastics Treaty
DESCRIPTION:Join our Sustainability Roundtable to discuss our submission for INC-2 (attached for your reference). There will be representatives from ASEAN embassies at the Political and Economic Counselor level\, member companies\, US Department of Commerce\, and the US State Department.
X-ALT-DESC;FMTTYPE=text/html:<span style="font-family: arial\; font-size: 16px\;">Join our Sustainability Roundtable to discuss our submission for INC-2 (attached for your reference). There will be representatives from ASEAN embassies at the Political and Economic Counselor level\, member companies\, US Department of Commerce\, and the US State Department.&nbsp\;</span>
LOCATION:US-ASEAN Business Council\, 1101 17th St NW Suite 411\, Washington\, DC 20036
UID:e.9078.9053
SEQUENCE:3
DTSTAMP:20230730T231442Z
URL:http://usasean.memberzone.com/events/details/sustainability-roundtable-on-the-un-global-plastics-treaty-9053
END:VEVENT

END:VCALENDAR
