BEGIN:VCALENDAR
VERSION:2.0
PRODID:-//ChamberMaster//Event Calendar 2.0//EN
METHOD:PUBLISH
X-PUBLISHED-TTL:P3D
REFRESH-INTERVAL:P3D
CALSCALE:GREGORIAN
BEGIN:VEVENT
DTSTART:20230713T160000Z
DTEND:20230713T173000Z
X-MICROSOFT-CDO-ALLDAYEVENT:FALSE
SUMMARY:Singapore Amb. Lui Welcome Luncheon
DESCRIPTION:Please join us in welcoming Singapore Ambassador Lui Tuck Yew to the United States. Sponsorship opportunities sent to members only. Please contact Lilibeth Almonte-Arbez lalmonte@usasean.org or Angelica Ortega aortega@usasean.org for more information.
X-ALT-DESC;FMTTYPE=text/html:Please join us in welcoming Singapore Ambassador <u>Lui </u>Tuck Yew to the United States.&nbsp\;Sponsorship opportunities sent to members only. Please contact Lilibeth Almonte-Arbez lalmonte@usasean.org or Angelica Ortega aortega@usasean.org for more information.
LOCATION:DACOR Bacon House 1801 F St.\, NW\, Washington\, D.C. 20006
UID:e.9078.9056
SEQUENCE:3
DTSTAMP:20230730T230226Z
URL:http://usasean.memberzone.com/events/details/singapore-amb-lui-welcome-luncheon-9056
END:VEVENT

END:VCALENDAR
