BEGIN:VCALENDAR
VERSION:2.0
PRODID:-//ChamberMaster//Event Calendar 2.0//EN
METHOD:PUBLISH
X-PUBLISHED-TTL:P3D
REFRESH-INTERVAL:P3D
CALSCALE:GREGORIAN
BEGIN:VEVENT
DTSTART:20230512T004500Z
DTEND:20230512T014500Z
X-MICROSOFT-CDO-ALLDAYEVENT:FALSE
SUMMARY:Roundtable with Leah Liston\, Director of Customs and Trade Affairs\, USTR
DESCRIPTION:Roundtable with Leah Liston\, Director of Customs and Trade Affairs\, USTR
X-ALT-DESC;FMTTYPE=text/html:<strong>Roundtable with Leah Liston\, Director of Customs and Trade Affairs\, USTR</strong>
LOCATION:Venue to be provided to registered participants
UID:e.9078.9022
SEQUENCE:3
DTSTAMP:20230730T231852Z
URL:http://usasean.memberzone.com/events/details/roundtable-with-leah-liston-director-of-customs-and-trade-affairs-ustr-9022
END:VEVENT

END:VCALENDAR
