BEGIN:VCALENDAR
VERSION:2.0
PRODID:-//ChamberMaster//Event Calendar 2.0//EN
METHOD:PUBLISH
X-PUBLISHED-TTL:P3D
REFRESH-INTERVAL:P3D
CALSCALE:GREGORIAN
BEGIN:VEVENT
DTSTART:20230614T013000Z
DTEND:20230614T023000Z
X-MICROSOFT-CDO-ALLDAYEVENT:FALSE
SUMMARY:Q2 HLS Committee Call
DESCRIPTION:Q2 HLS Committee Call
X-ALT-DESC;FMTTYPE=text/html:Q2 HLS Committee Call
LOCATION:Hybrid - in person and virtual via Zoom.
UID:e.9078.9041
SEQUENCE:3
DTSTAMP:20230730T231450Z
URL:http://usasean.memberzone.com/events/details/q2-hls-committee-call-9041
END:VEVENT

END:VCALENDAR
