BEGIN:VCALENDAR
VERSION:2.0
PRODID:-//ChamberMaster//Event Calendar 2.0//EN
METHOD:PUBLISH
X-PUBLISHED-TTL:P3D
REFRESH-INTERVAL:P3D
CALSCALE:GREGORIAN
BEGIN:VEVENT
DTSTART:20230503T200000Z
DTEND:20230503T233000Z
X-MICROSOFT-CDO-ALLDAYEVENT:FALSE
SUMMARY:Joint US-ABC USCC Business Forum and Reception in Honor of PHL President Marcos Jr.
DESCRIPTION:Business Forum and Reception in Honor of PHL President Marcos Jr.\n\nPlease contact Lilibeth Almonte-Arbez lalmonte@usasean.org for sponsorship information\,
X-ALT-DESC;FMTTYPE=text/html:Business Forum and Reception in Honor of PHL President Marcos Jr.<br />\nPlease contact Lilibeth Almonte-Arbez lalmonte@usasean.org for sponsorship information\,<br />\n&nbsp\;
LOCATION:Blair House
UID:e.9078.9011
SEQUENCE:3
DTSTAMP:20230730T231844Z
URL:http://usasean.memberzone.com/events/details/joint-us-abc-uscc-business-forum-and-reception-in-honor-of-phl-president-marcos-jr-9011
END:VEVENT

END:VCALENDAR
