BEGIN:VCALENDAR
VERSION:2.0
PRODID:-//ChamberMaster//Event Calendar 2.0//EN
METHOD:PUBLISH
X-PUBLISHED-TTL:P3D
REFRESH-INTERVAL:P3D
CALSCALE:GREGORIAN
BEGIN:VEVENT
DTSTART:20230719T180000Z
DTEND:20230719T193000Z
X-MICROSOFT-CDO-ALLDAYEVENT:FALSE
SUMMARY:In-Person Business Roundtable with ASEAN Business Advisory Council Chairman
DESCRIPTION:
X-ALT-DESC;FMTTYPE=text/html:
LOCATION:US-ASEAN Business Council\, 1101 17th St NW Suite 411\, Washington\, DC 20036
UID:e.9078.9068
SEQUENCE:3
DTSTAMP:20230730T230258Z
URL:http://usasean.memberzone.com/events/details/in-person-business-roundtable-with-asean-business-advisory-council-chairman-9068
END:VEVENT

END:VCALENDAR
