BEGIN:VCALENDAR
VERSION:2.0
PRODID:-//ChamberMaster//Event Calendar 2.0//EN
METHOD:PUBLISH
X-PUBLISHED-TTL:P3D
REFRESH-INTERVAL:P3D
CALSCALE:GREGORIAN
BEGIN:VEVENT
DTSTART:20230725T183000Z
DTEND:20230725T193000Z
X-MICROSOFT-CDO-ALLDAYEVENT:FALSE
SUMMARY:AI Briefing: Policy Developments in ASEAN and the U.S.
DESCRIPTION:
X-ALT-DESC;FMTTYPE=text/html:
LOCATION:US-ASEAN Business Council 1101 17th St NW Suite 411 Washington\, DC 20036
UID:e.9078.9072
SEQUENCE:3
DTSTAMP:20230730T230221Z
URL:http://usasean.memberzone.com/events/details/ai-briefing-policy-developments-in-asean-and-the-u-s-9072
END:VEVENT

END:VCALENDAR
