BEGIN:VCALENDAR
VERSION:2.0
PRODID:-//ChamberMaster//Event Calendar 2.0//EN
METHOD:PUBLISH
X-PUBLISHED-TTL:P3D
REFRESH-INTERVAL:P3D
CALSCALE:GREGORIAN
BEGIN:VEVENT
DTSTART;VALUE=DATE:20230718
DTEND;VALUE=DATE:20230721
TRANSP:TRANSPARENT
X-MICROSOFT-CDO-ALLDAYEVENT:TRUE
SUMMARY:2023 Singapore Business Mission
DESCRIPTION:With the goal of supporting the expansion of U.S. business interests and activities in Singapore\, the 2023 Singapore Business Mission aims to highlight Singapore as a proven testbed for innovation in next-generation technologies and business models\, as well as a policy and regulatory leader in ASEAN. The Business Mission will create opportunities to engage with the Government of Singapore and reinforce stronger U.S. economic engagement with Singapore and in ASEAN.\n\n\n\nTo register for the business mission\, please contact Angelica Ortega (aortega@usasean.org) and Jileen Yong (jyong@usasean.org).
X-ALT-DESC;FMTTYPE=text/html:<span style="caret-color: rgb(33\, 33\, 33)\; color: rgb(33\, 33\, 33)\; font-family: arial\, sans-serif\; font-size: 14.6667px\; text-align: justify\; text-size-adjust: auto\;">With the goal of supporting the expansion of U.S. business interests and activities in Singapore\, the 2023 Singapore Business Mission aims to highlight Singapore as a proven testbed for innovation in next-generation technologies and business models\, as well as a policy and regulatory leader in ASEAN. The Business Mission will create opportunities to engage with the Government of Singapore and reinforce stronger U.S. economic engagement with Singapore and in ASEAN.<br />\n<br />\nTo register for the business mission\, please contact Angelica Ortega (<a href="mailto:aortega@usasean.org">aortega@usasean.org</a>) and Jileen Yong (<a href="http://jyong@usasean.org">jyong@usasean.org</a>).&nbsp\;</span>
LOCATION:Singapore (in-person)
UID:e.9078.9060
SEQUENCE:3
DTSTAMP:20230730T230251Z
URL:http://usasean.memberzone.com/events/details/2023-singapore-business-mission-9060
END:VEVENT

END:VCALENDAR
