BEGIN:VCALENDAR
VERSION:2.0
PRODID:-//ChamberMaster//Event Calendar 2.0//EN
METHOD:PUBLISH
X-PUBLISHED-TTL:P3D
REFRESH-INTERVAL:P3D
CALSCALE:GREGORIAN
BEGIN:VEVENT
DTSTART:20230714T013000Z
DTEND:20230714T023000Z
X-MICROSOFT-CDO-ALLDAYEVENT:FALSE
SUMMARY:2023 Philippines Business Mission Planning Call # 2
DESCRIPTION:During this second planning call\, the Council will provide detailed information on the upcoming Business Mission\, including information on mission registration\, required mission materials\, confirmed meetings\, and mission logistics\, among others.
X-ALT-DESC;FMTTYPE=text/html:<span style="font-family:arial\,sans-serif\;"><span style="font-size:11pt\;">During this second planning call\, the Council will provide detailed information on the upcoming Business Mission\, including information on mission registration\, required mission materials\, confirmed meetings\, and mission logistics\, among others.</span></span>
LOCATION:Virtual Event
UID:e.9078.9066
SEQUENCE:3
DTSTAMP:20230730T230304Z
URL:http://usasean.memberzone.com/events/details/2023-philippines-business-mission-planning-call-2-9066
END:VEVENT

END:VCALENDAR
