BEGIN:VCALENDAR
VERSION:2.0
PRODID:-//ChamberMaster//Event Calendar 2.0//EN
METHOD:PUBLISH
X-PUBLISHED-TTL:P3D
REFRESH-INTERVAL:P3D
CALSCALE:GREGORIAN
BEGIN:VEVENT
DTSTART:20230627T130000Z
DTEND:20230627T140000Z
X-MICROSOFT-CDO-ALLDAYEVENT:FALSE
SUMMARY:2023 Philippines Business Mission Planning Call # 1
DESCRIPTION:The 2023 Philippines Business Mission Planning Call # 1 will discuss details relevant to the upcoming 2023 Philippines Business Mission. Topics include mission themes\, proposed mission meetings\, mission fees\, mission materials\, and other important information such as logistics and hotel bookings. Philippine Amb. Jose Manuel Romualdez will be joining the first half of the call to speak on the Philippines' political and macroeconomic outlook.
X-ALT-DESC;FMTTYPE=text/html:<span style="font-size:14px\;"><span style="font-family:arial\;"><span style="color: rgb(68\, 68\, 68)\;">The 2023 Philippines Business Mission Planning Call # 1 will discuss details relevant to the upcoming 2023 Philippines Business Mission. Topics include mission themes\, proposed mission meetings\, mission fees\, mission materials\, and other important information such as logistics and hotel bookings. Philippine Amb. Jose Manuel Romualdez will be joining the first half of the call to&nbsp\;</span><span style="caret-color: rgb(33\, 33\, 33)\; color: rgb(33\, 33\, 33)\; text-size-adjust: auto\;">speak on the Philippines&rsquo\; political and macroeconomic outlook.</span></span></span>
LOCATION:Virtual Event
UID:e.9078.9054
SEQUENCE:3
DTSTAMP:20230730T231459Z
URL:http://usasean.memberzone.com/events/details/2023-philippines-business-mission-planning-call-1-9054
END:VEVENT

END:VCALENDAR
