BEGIN:VCALENDAR
VERSION:2.0
PRODID:-//ChamberMaster//Event Calendar 2.0//EN
METHOD:PUBLISH
X-PUBLISHED-TTL:P3D
REFRESH-INTERVAL:P3D
CALSCALE:GREGORIAN
BEGIN:VEVENT
DTSTART:20240606T150000Z
DTEND:20240606T160000Z
X-MICROSOFT-CDO-ALLDAYEVENT:FALSE
SUMMARY:Zoom Registration to Hybrid US-ABC Roundtable with U.S. Ambassador-Designate to Timor Leste Donna Ann Welton
DESCRIPTION:Hybrid Roundtable with U.S. Ambassador-Designate Donna Ann Welton\n\nZoom registration
X-ALT-DESC;FMTTYPE=text/html:Hybrid Roundtable with U.S. Ambassador-Designate Donna Ann Welton<br />\nZoom registration
LOCATION:Zoom details provided upon registration
UID:e.9078.9307
SEQUENCE:3
DTSTAMP:20260422T161430Z
URL:http://usasean.memberzone.com/events/details/zoom-registration-to-hybrid-us-abc-roundtable-with-u-s-ambassador-designate-to-timor-leste-donna-ann-welton-9307
END:VEVENT

END:VCALENDAR
