BEGIN:VCALENDAR
VERSION:2.0
PRODID:-//ChamberMaster//Event Calendar 2.0//EN
METHOD:PUBLISH
X-PUBLISHED-TTL:P3D
REFRESH-INTERVAL:P3D
CALSCALE:GREGORIAN
BEGIN:VEVENT
DTSTART;VALUE=DATE:20190923
DTEND;VALUE=DATE:20190924
TRANSP:TRANSPARENT
X-MICROSOFT-CDO-ALLDAYEVENT:TRUE
SUMMARY:Youth Innovation Challenge 2019
DESCRIPTION:The Youth Innovation Challenge 2019 is a one-day seminar-workshop designed to cultivate innovation within the Philippines' youth sector.\n\n\n\nFor more information and tickets please visit: https://tinyurl.com/y26an4vd
X-ALT-DESC;FMTTYPE=text/html:<span style="font-size:11px\;"><strong><span style="font-weight: 700\; padding-top: 0px\; color: rgb(57\, 54\, 79)\; letter-spacing: 0.5px\;">The Youth Innovation Challenge 2019 is a one-day seminar-workshop designed to cultivate innovation within the Philippines&#39\; youth sector.<br />\n<br />\nFor more information and tickets please visit:&nbsp\;</span></strong></span>https://tinyurl.com/y26an4vd
LOCATION:Philippine International Convention Center (PICC)\, Pasay City\, Philippines
UID:e.9078.7994
SEQUENCE:3
DTSTAMP:20260424T211254Z
URL:http://usasean.memberzone.com/events/details/youth-innovation-challenge-2019-7994
END:VEVENT

END:VCALENDAR
