BEGIN:VCALENDAR
VERSION:2.0
PRODID:-//ChamberMaster//Event Calendar 2.0//EN
METHOD:PUBLISH
X-PUBLISHED-TTL:P3D
REFRESH-INTERVAL:P3D
CALSCALE:GREGORIAN
BEGIN:VEVENT
DTSTART:20190621T190000Z
DTEND:20190621T203000Z
X-MICROSOFT-CDO-ALLDAYEVENT:FALSE
SUMMARY:Working Luncheon with OPIC’s Chief of Staff\, Eric Jones
DESCRIPTION:
X-ALT-DESC;FMTTYPE=text/html:
LOCATION:Singapore Conference Room\, US-ASEAN Business Council
UID:e.9078.7910
SEQUENCE:3
DTSTAMP:20260425T021757Z
URL:http://usasean.memberzone.com/events/details/working-luncheon-with-opic-s-chief-of-staff-eric-jones-7910
END:VEVENT

END:VCALENDAR
