BEGIN:VCALENDAR
VERSION:2.0
PRODID:-//ChamberMaster//Event Calendar 2.0//EN
METHOD:PUBLISH
X-PUBLISHED-TTL:P3D
REFRESH-INTERVAL:P3D
CALSCALE:GREGORIAN
BEGIN:VEVENT
DTSTART;VALUE=DATE:20190620
DTEND;VALUE=DATE:20190621
TRANSP:TRANSPARENT
X-MICROSOFT-CDO-ALLDAYEVENT:TRUE
SUMMARY:Working Luncheon with OPIC Chief of Staff\, Mr. Eric Jones
DESCRIPTION:Chief of Staff at the Overseas Private Investment Corporation\, Eric Jones will be traveling to Malaysia with the objectives of  meeting with U.S. industry\, share the latest on OPIC's worldwide activities\, discuss OPIC's products available to companies and the U.S. Government's Indo-Pacific Strategy and their initiative.
X-ALT-DESC;FMTTYPE=text/html:<span style="color:black\;"><span style="font-family:arial\,sans-serif\;"><span style="font-size:12.0pt\;">Chief of Staff at the Overseas Private Investment Corporation\, Eric Jones will be traveling to Malaysia with the objectives of&nbsp\; meeting with U.S. industry\, share the latest on OPIC&rsquo\;s worldwide activities\, discuss OPIC&#39\;s products available to companies and the U.S. Government&#39\;s Indo-Pacific Strategy and their initiative.</span><span style="font-size:12.0pt\;"> </span></span></span><br />\n<br />\n<br />\n<br />\n<span style="color:black\;"><span style="font-family:arial\,sans-serif\;"><span style="font-size:12.0pt\;">&nbsp\;</span></span></span><br />\n<br />\n&nbsp\;
LOCATION:26th Floor\, Maxis Tower Kuala Lumpur City Centre 50088 Kuala Lumpur
UID:e.9078.7926
SEQUENCE:3
DTSTAMP:20260425T021757Z
URL:http://usasean.memberzone.com/events/details/working-luncheon-with-opic-chief-of-staff-mr-eric-jones-7926
END:VEVENT

END:VCALENDAR
