BEGIN:VCALENDAR
VERSION:2.0
PRODID:-//ChamberMaster//Event Calendar 2.0//EN
METHOD:PUBLISH
X-PUBLISHED-TTL:P3D
REFRESH-INTERVAL:P3D
CALSCALE:GREGORIAN
BEGIN:VEVENT
DTSTART:20231016T090000Z
DTEND:20231016T110000Z
X-MICROSOFT-CDO-ALLDAYEVENT:FALSE
SUMMARY:Welcome Reception for SVP & Regional MD Amb. McFeeters
DESCRIPTION:Welcome reception for incoming USABC SVP & Regional MD Amb. Brian McFeeters.
X-ALT-DESC;FMTTYPE=text/html:Welcome reception for incoming USABC SVP &amp\; Regional MD Amb. Brian McFeeters.
LOCATION:US Dairy Export Council Center for Dairy Excellence 20 Martin Rd\, #08-00\, Singapore 239070
UID:e.9078.9180
SEQUENCE:3
DTSTAMP:20260421T193118Z
URL:http://usasean.memberzone.com/events/details/welcome-reception-for-svp-regional-md-amb-mcfeeters-9180
END:VEVENT

END:VCALENDAR
