BEGIN:VCALENDAR
VERSION:2.0
PRODID:-//ChamberMaster//Event Calendar 2.0//EN
METHOD:PUBLISH
X-PUBLISHED-TTL:P3D
REFRESH-INTERVAL:P3D
CALSCALE:GREGORIAN
BEGIN:VEVENT
DTSTART:20190924T113000Z
DTEND:20190924T133000Z
X-MICROSOFT-CDO-ALLDAYEVENT:FALSE
SUMMARY:Welcome reception for new CG Marie Damour
DESCRIPTION:The US-ASEAN Business Council is pleased to organize a reception to welcome the new U.S. Consul General Marie Damour to post in Ho Chi Minh city. The event will feature speakers and guests from the leadership of Ho Chi Minh city and other provinces in the South as well as senior executives from American and leading local businesses. This will be a great opportunity for Council member companies to reiterate their long-time strong commitment to contributing to these local economies and supporting the mission of the American diplomatic mission in Vietnam.
X-ALT-DESC;FMTTYPE=text/html:<span style="color:black\;">The US-ASEAN Business Council is pleased to organize a reception to welcome the new U.S. Consul General Marie Damour to post in Ho Chi Minh city. The event will feature speakers and guests from the leadership of Ho Chi Minh city and other provinces in the South as well as senior executives from American and leading local businesses. This will be a great opportunity for Council member companies to reiterate their long-time strong commitment to contributing to these local economies and supporting the mission of the American diplomatic mission in Vietnam.</span><br />\n&nbsp\;
LOCATION:Hochiminh City. Detailed venue TBC
UID:e.9078.8008
SEQUENCE:3
DTSTAMP:20260424T211959Z
URL:http://usasean.memberzone.com/events/details/welcome-reception-for-new-cg-marie-damour-8008
END:VEVENT

END:VCALENDAR
