BEGIN:VCALENDAR
VERSION:2.0
PRODID:-//ChamberMaster//Event Calendar 2.0//EN
METHOD:PUBLISH
X-PUBLISHED-TTL:P3D
REFRESH-INTERVAL:P3D
CALSCALE:GREGORIAN
BEGIN:VEVENT
DTSTART:20230320T220000Z
DTEND:20230321T000000Z
X-MICROSOFT-CDO-ALLDAYEVENT:FALSE
SUMMARY:Welcome Reception for ASEAN Cybersecurity Officials Visit to DC
DESCRIPTION:
X-ALT-DESC;FMTTYPE=text/html:
LOCATION:
UID:e.9078.8989
SEQUENCE:3
DTSTAMP:20260421T123623Z
URL:http://usasean.memberzone.com/events/details/welcome-reception-for-asean-cybersecurity-officials-visit-to-dc-8989
END:VEVENT

END:VCALENDAR
