BEGIN:VCALENDAR
VERSION:2.0
PRODID:-//ChamberMaster//Event Calendar 2.0//EN
METHOD:PUBLISH
X-PUBLISHED-TTL:P3D
REFRESH-INTERVAL:P3D
CALSCALE:GREGORIAN
BEGIN:VEVENT
DTSTART:20230209T170000Z
DTEND:20230209T183000Z
X-MICROSOFT-CDO-ALLDAYEVENT:FALSE
SUMMARY:Welcome Luncheon in honor of H.E. Tanee Sangrat\, Thai Ambassador to the United States (VIP)
DESCRIPTION:
X-ALT-DESC;FMTTYPE=text/html:
LOCATION:TBC
UID:e.9078.8941
SEQUENCE:3
DTSTAMP:20260421T160944Z
URL:http://usasean.memberzone.com/events/details/welcome-luncheon-in-honor-of-h-e-tanee-sangrat-thai-ambassador-to-the-united-states-vip-8941
END:VEVENT

END:VCALENDAR
