BEGIN:VCALENDAR
VERSION:2.0
PRODID:-//ChamberMaster//Event Calendar 2.0//EN
METHOD:PUBLISH
X-PUBLISHED-TTL:P3D
REFRESH-INTERVAL:P3D
CALSCALE:GREGORIAN
BEGIN:VEVENT
DTSTART:20220419T160000Z
DTEND:20220419T173000Z
X-MICROSOFT-CDO-ALLDAYEVENT:FALSE
SUMMARY:Welcome Luncheon in honor of H.E. Nguyen Quoc Dzung\, Vietnamese Ambassador to the U.S.
DESCRIPTION:Welcome luncheon in honor of H.E. Nguyen Quoc Dzung\, Vietnamese Ambassador to the United States
X-ALT-DESC;FMTTYPE=text/html:Welcome luncheon in honor of H.E. Nguyen Quoc Dzung\, Vietnamese Ambassador to the United States
LOCATION:TBD
UID:e.9078.8744
SEQUENCE:3
DTSTAMP:20260422T155414Z
URL:http://usasean.memberzone.com/events/details/welcome-luncheon-in-honor-of-h-e-nguyen-quoc-dzung-vietnamese-ambassador-to-the-u-s-8744
END:VEVENT

END:VCALENDAR
