BEGIN:VCALENDAR
VERSION:2.0
PRODID:-//ChamberMaster//Event Calendar 2.0//EN
METHOD:PUBLISH
X-PUBLISHED-TTL:P3D
REFRESH-INTERVAL:P3D
CALSCALE:GREGORIAN
BEGIN:VEVENT
DTSTART:20180531T160000Z
DTEND:20180531T180000Z
X-MICROSOFT-CDO-ALLDAYEVENT:FALSE
SUMMARY:Welcome Luncheon for H.E. Virachai Plasai\, Incoming Ambassador of Thailand to the United States
DESCRIPTION:The Council is pleased to host a Welcome Luncheon for H.E. Virachai Plasai\, the incoming Ambassador of Thailand to the United States. Ambassador Virachai has already enjoyed a distinguished diplomatic career\, most recently as Ambassador and Permanent Representative of Thailand to the United Nations (2015-2018)\, and previously as Ambassador to the Netherlands (2009-2015). He has also served as Director-General of Thailand's Department of International Economy Affairs\, and as legal counsel before the World Trade Organization and the International Court of Justice. His bio is available here. \n\n\n\nWe are excited to welcome Ambassador Virachai to Washington on behalf of the U.S. business community. In addition to Royal Thai Embassy and other ASEAN officials\, the luncheon will include U.S. government and other key stakeholders. The luncheon will be a unique opportunity to engage Ambassador Virachai at the very beginning of his tenure\, to underscore the Council's dedication to strengthening the U.S.-Thailand relationship.
X-ALT-DESC;FMTTYPE=text/html:<span style="font-family:arial\,sans-serif\;"><span style="font-size:12.0pt\;">The Council is pleased to host a Welcome Luncheon for H.E. Virachai&nbsp\;Plasai\, the incoming Ambassador of Thailand to the United States. Ambassador Virachai has already enjoyed a distinguished diplomatic career\, most recently as Ambassador and Permanent Representative of Thailand to the United Nations (2015-2018)\, and previously as Ambassador to the Netherlands (2009-2015).&nbsp\;He has also served as Director-General of Thailand&#39\;s Department of International Economy Affairs\, and as legal counsel before the World Trade Organization and the International Court of Justice. His bio is available <a href="https://chambermaster.blob.core.windows.net/userfiles/UserFiles/chambers/9078/File/Bio-Ambassador-Plasai-UPDATED.pdf">here</a>.&nbsp\;<br />\n<br />\nWe are excited to&nbsp\;welcome Ambassador Virachai to Washington on behalf of the U.S. business community. In addition to Royal Thai Embassy and other ASEAN officials\, the luncheon will include U.S. government and other key stakeholders. The luncheon will be a unique opportunity to engage Ambassador Virachai&nbsp\;at the very beginning of his tenure\, to underscore the Council&#39\;s dedication to strengthening the U.S.-Thailand relationship.&nbsp\;</span></span>
LOCATION:The St. Regis Hotel Washington\, D.C.
UID:e.9078.6554
SEQUENCE:3
DTSTAMP:20260419T220647Z
URL:http://usasean.memberzone.com/events/details/welcome-luncheon-for-h-e-virachai-plasai-incoming-ambassador-of-thailand-to-the-united-states-6554
END:VEVENT

END:VCALENDAR
