BEGIN:VCALENDAR
VERSION:2.0
PRODID:-//ChamberMaster//Event Calendar 2.0//EN
METHOD:PUBLISH
X-PUBLISHED-TTL:P3D
REFRESH-INTERVAL:P3D
CALSCALE:GREGORIAN
BEGIN:VEVENT
DTSTART:20140612T163000Z
DTEND:20140612T180000Z
X-MICROSOFT-CDO-ALLDAYEVENT:FALSE
SUMMARY:Welcome Luncheon for H.E. Ambassador Awang Adek bin Hussin
DESCRIPTION:The US-ASEAN Business Council enjoys a strong relationship with the Embassy of Malaysia in Washington\, D.C.  This relationship has given Council members and the Embassy numerous opportunities to support each other and work together to further develop the Malaysia-U.S. business relationship.  To continue building on this relationship\, the Council is pleased to organize a welcome luncheon for H.E. Dr. Awang Adek bin Hussin\, Ambassador of Malaysia to the United States.\n\n \n\nThe luncheon will be a chance to introduce Ambassador Awang to the Council's Malaysia Committee and its activities. We will ask the Ambassador to share his priorities and outlook for his Ambassadorship and how best the Council and its members can partner with the Embassy of Malaysia to further develop business ties between the U.S. and Malaysia.
X-ALT-DESC;FMTTYPE=text/html:<span style="color:black\;"><span style="font-family:arial\,sans-serif\;"><span style="font-size:12.0pt\;">The US-ASEAN Business Council enjoys a strong relationship with the Embassy of Malaysia in Washington\, D.C. &nbsp\;This relationship has given Council members and the Embassy numerous opportunities to support each other and work together to further develop the Malaysia-U.S. business relationship.&nbsp\; To continue building on this relationship\, the Council is pleased to organize a<strong> welcome luncheon for H.E. Dr. Awang Adek bin Hussin</strong>\, Ambassador of Malaysia to the United States.<br />\n&nbsp\;<br />\nThe luncheon will be a chance to introduce Ambassador&nbsp\;Awang to the Council&rsquo\;s Malaysia Committee and its activities.&nbsp\;We will ask the Ambassador to share his priorities and outlook for his&nbsp\;Ambassadorship&nbsp\;and how best the Council and its members can partner with the Embassy of Malaysia to further develop business ties between the U.S. and Malaysia.</span></span></span>
LOCATION:Seasons Restaurant Four Seasons Hotel 2800 Pennsylvania Avenue\, NW Washington\, D.C.
UID:e.9078.1125
SEQUENCE:3
DTSTAMP:20260420T104917Z
URL:http://usasean.memberzone.com/events/details/welcome-luncheon-for-h-e-ambassador-awang-adek-bin-hussin-06-12-2014-1125
END:VEVENT

END:VCALENDAR
