BEGIN:VCALENDAR
VERSION:2.0
PRODID:-//ChamberMaster//Event Calendar 2.0//EN
METHOD:PUBLISH
X-PUBLISHED-TTL:P3D
REFRESH-INTERVAL:P3D
CALSCALE:GREGORIAN
BEGIN:VEVENT
DTSTART:20140407T160000Z
DTEND:20140407T173000Z
X-MICROSOFT-CDO-ALLDAYEVENT:FALSE
SUMMARY:Welcome Luncheon for Ambassador Bowoleksono
DESCRIPTION:Welcome Luncheon for\n\nH.E. Budi Bowoleksono\n\nAmbassador of Indonesia to the United States
X-ALT-DESC;FMTTYPE=text/html:Welcome Luncheon for<br />\nH.E. Budi Bowoleksono<br />\nAmbassador of Indonesia to the United States
LOCATION:The W Hotel 515 15th St NW Washington\, DC 20004
UID:e.9078.1089
SEQUENCE:3
DTSTAMP:20260420T154850Z
URL:http://usasean.memberzone.com/events/details/welcome-luncheon-for-ambassador-bowoleksono-04-07-2014-1089
END:VEVENT

END:VCALENDAR
