BEGIN:VCALENDAR
VERSION:2.0
PRODID:-//ChamberMaster//Event Calendar 2.0//EN
METHOD:PUBLISH
X-PUBLISHED-TTL:P3D
REFRESH-INTERVAL:P3D
CALSCALE:GREGORIAN
BEGIN:VEVENT
DTSTART:20130903T160000Z
DTEND:20130903T173000Z
X-MICROSOFT-CDO-ALLDAYEVENT:FALSE
SUMMARY:Welcome Lunch for new DCM Patrick Murphy and Econ Counselor Kristina Kvien
DESCRIPTION:The Council is delighted to invite you to a welcome lunch with senior leadership at the US Embassy who have taken up their posts this summer. It will be a great opportunity for you to introduce your companies and brief issues for future engagement.\n\n\n\n\n\nHosted by Chevron with 18 Participants
X-ALT-DESC;FMTTYPE=text/html:The Council is delighted to invite you to a welcome lunch with senior leadership at the US Embassy who have taken up their posts this summer. It will be a great opportunity for you to introduce your companies and brief issues for future engagement.<br />\n<br />\n<br />\nHosted by Chevron with 18 Participants
LOCATION:Private Dining Room\, Madison Restaurant\, Four Season Hotel \, Rachadamri Road Bangkok\, Thailand
UID:e.9078.908
SEQUENCE:3
DTSTAMP:20260421T160712Z
URL:http://usasean.memberzone.com/events/details/welcome-lunch-for-new-dcm-patrick-murphy-and-econ-counselor-kristina-kvien-09-03-2013-908
END:VEVENT

END:VCALENDAR
