BEGIN:VCALENDAR
VERSION:2.0
PRODID:-//ChamberMaster//Event Calendar 2.0//EN
METHOD:PUBLISH
X-PUBLISHED-TTL:P3D
REFRESH-INTERVAL:P3D
CALSCALE:GREGORIAN
BEGIN:VEVENT
DTSTART;VALUE=DATE:20181113
DTEND;VALUE=DATE:20181114
TRANSP:TRANSPARENT
X-MICROSOFT-CDO-ALLDAYEVENT:TRUE
SUMMARY:WCO workshop for Lao Customs on Combating Counterfeiting
DESCRIPTION:The World Customs Organization is inviting private sector representatives to present on intellectual property protection and product identification at an upcoming training session for the Lao Department of Customs. The Joint Session with Rights Holders is currently scheduled for the afternoon of November 13. Please contact Ian Saccomanno if you are interested in supporting the program.
X-ALT-DESC;FMTTYPE=text/html:The World Customs Organization is inviting private sector representatives to present on intellectual property protection and product identification at an upcoming training session for the Lao Department of Customs. The Joint Session with Rights Holders is currently scheduled for the afternoon of November 13.&nbsp\;Please contact <a href="mailto:isaccomanno@usasean.org">Ian Saccomanno</a> if you are interested in supporting the program.
LOCATION:Vientiane\, Laos
UID:e.9078.7710
SEQUENCE:3
DTSTAMP:20260420T121624Z
URL:http://usasean.memberzone.com/events/details/wco-workshop-for-lao-customs-on-combating-counterfeiting-7710
END:VEVENT

END:VCALENDAR
