BEGIN:VCALENDAR
VERSION:2.0
PRODID:-//ChamberMaster//Event Calendar 2.0//EN
METHOD:PUBLISH
X-PUBLISHED-TTL:P3D
REFRESH-INTERVAL:P3D
CALSCALE:GREGORIAN
BEGIN:VEVENT
DTSTART;VALUE=DATE:20110120
DTEND;VALUE=DATE:20120421
TRANSP:TRANSPARENT
X-MICROSOFT-CDO-ALLDAYEVENT:TRUE
SUMMARY:Washington Luncheon with Secretary Purisima and Secretary Paderanga - Jan 20 2011
DESCRIPTION:
X-ALT-DESC;FMTTYPE=text/html:
LOCATION:
UID:e.9078.586
SEQUENCE:3
DTSTAMP:20260425T023817Z
URL:http://usasean.memberzone.com/events/details/washington-luncheon-with-secretary-purisima-and-secretary-paderanga-jan-20-2011-01-20-2011-586
END:VEVENT

END:VCALENDAR
