BEGIN:VCALENDAR
VERSION:2.0
PRODID:-//ChamberMaster//Event Calendar 2.0//EN
METHOD:PUBLISH
X-PUBLISHED-TTL:P3D
REFRESH-INTERVAL:P3D
CALSCALE:GREGORIAN
BEGIN:VEVENT
DTSTART:20220412T010000Z
DTEND:20220412T020000Z
X-MICROSOFT-CDO-ALLDAYEVENT:FALSE
SUMMARY:Vote 2022: A business perspective on the Philippine Elections
DESCRIPTION:The Council and Vriens & Partners are pleased to invite you to Vote 2022: A business perspective on the Philippine National Elections\, a closed-door discussion on the upcoming Philippine National Elections and the considerations for businesses under various electoral outcomes. Join our discussants\, Vriens and Partners' Managing Director Hans Vriens\, Country Director Atty. Elaine Collado\, Senior Advisor Mr. Romeo Bernardo\, and Associate Director Mr. Jon Morales as they look into the economic implications of the 2022 Philippine National Elections.
X-ALT-DESC;FMTTYPE=text/html:<span style="font-size:14px\;"><span style="font-family:arial\;"><span style="color:black\;">The Council and Vriens &amp\; Partners are pleased to invite you to Vote 2022: A business perspective on the Philippine National Elections\, a closed-door discussion on the upcoming Philippine National Elections and the </span><span style="color:black\;">considerations for businesses under various electoral outcomes. Join our discussants\, Vriens and Partners&rsquo\; Managing Director Hans Vriens\, Country Director Atty. Elaine Collado\, Senior Advisor Mr. Romeo Bernardo\, and Associate Director Mr. Jon Morales as they look into the economic implications of the 2022 Philippine National Elections.&nbsp\;</span></span></span>
LOCATION:Via Zoom
UID:e.9078.8745
SEQUENCE:3
DTSTAMP:20260422T155117Z
URL:http://usasean.memberzone.com/events/details/vote-2022-a-business-perspective-on-the-philippine-elections-8745
END:VEVENT

END:VCALENDAR
