BEGIN:VCALENDAR
VERSION:2.0
PRODID:-//ChamberMaster//Event Calendar 2.0//EN
METHOD:PUBLISH
X-PUBLISHED-TTL:P3D
REFRESH-INTERVAL:P3D
CALSCALE:GREGORIAN
BEGIN:VEVENT
DTSTART:20201130T020000Z
DTEND:20201130T051500Z
X-MICROSOFT-CDO-ALLDAYEVENT:FALSE
SUMMARY:Virtual Public Dissemination of Ministry of Industry Regulation 22/2020 on Local Content Calculation for Electronic and Telematic Products
DESCRIPTION:
X-ALT-DESC;FMTTYPE=text/html:
LOCATION:
UID:e.9078.8352
SEQUENCE:3
DTSTAMP:20260424T045025Z
URL:http://usasean.memberzone.com/events/details/virtual-public-dissemination-of-ministry-of-industry-regulation-22-2020-on-local-content-calculation-for-electronic-and-telematic-products-8352
END:VEVENT

END:VCALENDAR
