BEGIN:VCALENDAR
VERSION:2.0
PRODID:-//ChamberMaster//Event Calendar 2.0//EN
METHOD:PUBLISH
X-PUBLISHED-TTL:P3D
REFRESH-INTERVAL:P3D
CALSCALE:GREGORIAN
BEGIN:VEVENT
DTSTART:20230829T070000Z
DTEND:20230829T083000Z
X-MICROSOFT-CDO-ALLDAYEVENT:FALSE
SUMMARY:(VIRTUAL) Indonesia ICT Advocacy Meeting
DESCRIPTION:
X-ALT-DESC;FMTTYPE=text/html:
LOCATION:
UID:e.9078.9106
SEQUENCE:3
DTSTAMP:20260421T160650Z
URL:http://usasean.memberzone.com/events/details/virtual-indonesia-ict-advocacy-meeting-9106
END:VEVENT

END:VCALENDAR
