BEGIN:VCALENDAR
VERSION:2.0
PRODID:-//ChamberMaster//Event Calendar 2.0//EN
METHOD:PUBLISH
X-PUBLISHED-TTL:P3D
REFRESH-INTERVAL:P3D
CALSCALE:GREGORIAN
BEGIN:VEVENT
DTSTART:20231011T013000Z
DTEND:20231011T023000Z
X-MICROSOFT-CDO-ALLDAYEVENT:FALSE
SUMMARY:Virtual Fireside Chat with Amb. Brian McFeeters
DESCRIPTION:Fireside chat with incoming SVP & Regional MD Amb. Brian McFeeters.
X-ALT-DESC;FMTTYPE=text/html:Fireside chat with incoming SVP &amp\; Regional MD Amb. Brian McFeeters.
LOCATION:Virtual event via Zoom.
UID:e.9078.9173
SEQUENCE:3
DTSTAMP:20260421T160004Z
URL:http://usasean.memberzone.com/events/details/virtual-fireside-chat-with-amb-brian-mcfeeters-9173
END:VEVENT

END:VCALENDAR
