BEGIN:VCALENDAR
VERSION:2.0
PRODID:-//ChamberMaster//Event Calendar 2.0//EN
METHOD:PUBLISH
X-PUBLISHED-TTL:P3D
REFRESH-INTERVAL:P3D
CALSCALE:GREGORIAN
BEGIN:VEVENT
DTSTART:20230106T010000Z
DTEND:20230106T020000Z
X-MICROSOFT-CDO-ALLDAYEVENT:FALSE
SUMMARY:Virtual Briefing with Baker & McKenzie on Vietnam Decree 53
DESCRIPTION:The Council is pleased to invite you to a Virtual Briefing with Baker & McKenzie on Vietnam Decree 53 Detailing a Number of Articles of the Law on Cybersecurity of Vietnam.
X-ALT-DESC;FMTTYPE=text/html:<span style="font-size:14px\;"><span style="letter-spacing:0.75pt\;"><span style="color:#333333\;"><span style="font-family:arial\,sans-serif\;">The Council is pleased to invite you to a Virtual Briefing with Baker &amp\; McKenzie on&nbsp\;Vietnam Decree 53 Detailing a Number of Articles of the Law on Cybersecurity of Vietnam.</span></span></span></span><br />\n&nbsp\;
LOCATION:Virtual Zoom link will be provided upon registration
UID:e.9078.8927
SEQUENCE:3
DTSTAMP:20260421T213543Z
URL:http://usasean.memberzone.com/events/details/virtual-briefing-with-baker-mckenzie-on-vietnam-decree-53-01-06-2023-8927
END:VEVENT

END:VCALENDAR
