BEGIN:VCALENDAR
VERSION:2.0
PRODID:-//ChamberMaster//Event Calendar 2.0//EN
METHOD:PUBLISH
X-PUBLISHED-TTL:P3D
REFRESH-INTERVAL:P3D
CALSCALE:GREGORIAN
BEGIN:VEVENT
DTSTART:20200522T010000Z
DTEND:20200522T020000Z
X-MICROSOFT-CDO-ALLDAYEVENT:FALSE
SUMMARY:Virtual Briefing with Ambassador Daniel Kritenbrink on Vietnam ICT Regulations
DESCRIPTION:Virtual Briefing with Ambassador Daniel Kritenbrink\, U.S. Ambassador to Vietnam\, on Vietnam ICT Regulations\n\nhttps://vn.usembassy.gov/our-relationship/our-ambassador/
X-ALT-DESC;FMTTYPE=text/html:Virtual Briefing with Ambassador Daniel Kritenbrink\, U.S. Ambassador to Vietnam\, on Vietnam ICT Regulations<br />\n<a href="https://vn.usembassy.gov/our-relationship/our-ambassador/">https://vn.usembassy.gov/our-relationship/our-ambassador/</a>
LOCATION:Virtual Meeting
UID:e.9078.8199
SEQUENCE:3
DTSTAMP:20260424T121556Z
URL:http://usasean.memberzone.com/events/details/virtual-briefing-with-ambassador-daniel-kritenbrink-on-vietnam-ict-regulations-8199
END:VEVENT

END:VCALENDAR
