BEGIN:VCALENDAR
VERSION:2.0
PRODID:-//ChamberMaster//Event Calendar 2.0//EN
METHOD:PUBLISH
X-PUBLISHED-TTL:P3D
REFRESH-INTERVAL:P3D
CALSCALE:GREGORIAN
BEGIN:VEVENT
DTSTART:20240712T010000Z
DTEND:20240712T020000Z
X-MICROSOFT-CDO-ALLDAYEVENT:FALSE
SUMMARY:Virtual Briefing on Vietnam’s Energy Landscape
DESCRIPTION:Virtual Briefing to provide updates on recent developments of Vietnam's Energy Landscape
X-ALT-DESC;FMTTYPE=text/html:<b style="caret-color: rgb(33\, 33\, 33)\; color: rgb(33\, 33\, 33)\; font-family: Aptos\, sans-serif\; font-size: 16px\;"><span style="font-size: 11pt\; font-family: Tahoma\, sans-serif\; line-height: 1.2\;">Virtual Briefing to provide updates on recent developments of Vietnam&rsquo\;s Energy Landscape</span></b>
LOCATION:Virtual
UID:e.9078.9331
SEQUENCE:3
DTSTAMP:20260422T122953Z
URL:http://usasean.memberzone.com/events/details/virtual-briefing-on-vietnam-s-energy-landscape-9331
END:VEVENT

END:VCALENDAR
