BEGIN:VCALENDAR
VERSION:2.0
PRODID:-//ChamberMaster//Event Calendar 2.0//EN
METHOD:PUBLISH
X-PUBLISHED-TTL:P3D
REFRESH-INTERVAL:P3D
CALSCALE:GREGORIAN
BEGIN:VEVENT
DTSTART:20230119T140000Z
DTEND:20230119T150000Z
X-MICROSOFT-CDO-ALLDAYEVENT:FALSE
SUMMARY:Virtual Briefing on Recent Political Developments in Vietnam
DESCRIPTION:Virtual Briefing by US-ASEAN Business Council on Recent Political Developments in Vietnam
X-ALT-DESC;FMTTYPE=text/html:<span style="font-family:arial\;"><span style="font-size:18px\;"><strong><span style="letter-spacing:0.75pt\;"><span style="color:#333333\;">Virtual Briefing by US-ASEAN Business Council on&nbsp\;</span></span></strong><strong><span style="letter-spacing:0.75pt\;"><span style="color:#333333\;">Recent Political Developments in Vietnam</span></span></strong></span></span>
LOCATION:Virtual meeting (Zoom link will be sent upon registration)
UID:e.9078.8939
SEQUENCE:3
DTSTAMP:20260421T211021Z
URL:http://usasean.memberzone.com/events/details/virtual-briefing-on-recent-political-developments-in-vietnam-8939
END:VEVENT

END:VCALENDAR
