BEGIN:VCALENDAR
VERSION:2.0
PRODID:-//ChamberMaster//Event Calendar 2.0//EN
METHOD:PUBLISH
X-PUBLISHED-TTL:P3D
REFRESH-INTERVAL:P3D
CALSCALE:GREGORIAN
BEGIN:VEVENT
DTSTART:20230713T160000Z
DTEND:20230713T173000Z
X-MICROSOFT-CDO-ALLDAYEVENT:FALSE
SUMMARY:VIP invitation-SG Amb. Lui Welcome Luncheon
DESCRIPTION:the Arts until 2009.\n\n\n\nAlong with U.S. government officials and ASEAN Ambassadors\, we hope you will join us on this very special occasion as we honor Ambassador Lui and welcome him to the United States.
X-ALT-DESC;FMTTYPE=text/html:<span style="color:#212121\;"><span style="font-family:arial\,sans-serif\;"><span style="font-size:11pt\;">the Arts until 2009.</span></span></span><br />\n<br />\n<span style="color:#212121\;"><span style="font-family:arial\,sans-serif\;"><span style="font-size:11pt\;">Along with U.S. government officials and ASEAN Ambassadors\, we hope you will join us on this very special occasion as we honor Ambassador Lui and welcome him to the United States.</span></span></span>
LOCATION:Dacor Bacon House 1801 F St\, NW Washington DC 20006
UID:e.9078.9058
SEQUENCE:3
DTSTAMP:20260421T123833Z
URL:http://usasean.memberzone.com/events/details/vip-invitation-sg-amb-lui-welcome-luncheon-9058
END:VEVENT

END:VCALENDAR
