BEGIN:VCALENDAR
VERSION:2.0
PRODID:-//ChamberMaster//Event Calendar 2.0//EN
METHOD:PUBLISH
X-PUBLISHED-TTL:P3D
REFRESH-INTERVAL:P3D
CALSCALE:GREGORIAN
BEGIN:VEVENT
DTSTART:20181206T013000Z
DTEND:20181206T050000Z
X-MICROSOFT-CDO-ALLDAYEVENT:FALSE
SUMMARY:Vietnam Travel and Tourism Summit 2018
DESCRIPTION:
X-ALT-DESC;FMTTYPE=text/html:
LOCATION:Grand Ballroom\, Floor 5 InterContinental Hanoi Landmark Keangnam Hanoi Landmark Tower\, Plot E6\, Cau Giay Urban Area\, Tu Liem\, Hanoi
UID:e.9078.7751
SEQUENCE:3
DTSTAMP:20260425T130812Z
URL:http://usasean.memberzone.com/events/details/vietnam-travel-and-tourism-summit-2018-7751
END:VEVENT

END:VCALENDAR
