BEGIN:VCALENDAR
VERSION:2.0
PRODID:-//ChamberMaster//Event Calendar 2.0//EN
METHOD:PUBLISH
X-PUBLISHED-TTL:P3D
REFRESH-INTERVAL:P3D
CALSCALE:GREGORIAN
BEGIN:VEVENT
DTSTART;VALUE=DATE:20240318
DTEND;VALUE=DATE:20240319
TRANSP:TRANSPARENT
X-MICROSOFT-CDO-ALLDAYEVENT:TRUE
SUMMARY:Vietnam Defense & Security Procurement Workshop
DESCRIPTION:The US-ASEAN Business Council will coordinate procurement workshops with the Ministry of National Defense (MND) and the Ministry of Public Security (MPS) on Monday\, March 18.  While these Ministries have been mostly inaccessible in the past\, new opportunities are rapidly emerging for U.S. engagement in many sectors beyond traditional defense and security\, to include aerospace\, information\, communications\, cyber\, technology\, AI\, energy\, health\, medical\, industrial safety\, and emergency response\, among others.  These workshops will be a separate engagement from the annual Vietnam Business Mission\, so please register separately. The point of contact is Chuck Casey (ccasey@usasean.org).
X-ALT-DESC;FMTTYPE=text/html:<br />\n<br />\n<br />\n<span class="ui-provider a b c d e f g h i j k l m n o p q r s t u v w x y z ab ac ae af ag ah ai aj ak" dir="ltr"><span style="background-color: rgb(229\, 241\, 143)\; font-size: inherit\;"><strong>The US-ASEAN Business Council will coordinate procurement workshops with the Ministry of National Defense (MND) and the Ministry of Public Security (MPS) on Monday\, March 18.</strong></span><span style="font-size: inherit\;">&nbsp\;&nbsp\;While these Ministries have been mostly inaccessible in the past\, new opportunities are rapidly emerging for U.S. engagement in many sectors beyond traditional defense and security\, to include aerospace\, information\, communications\, cyber\, technology\, AI\, energy\, health\, medical\, industrial safety\, and emergency response\, among others.&nbsp\; These workshops will be a separate engagement from the annual Vietnam Business Mission\, so please register separately.&nbsp\;The point of contact is Chuck Casey (</span><a aria-label="Link ccasey@usasean.org" class="fui-Link ___1rxvrpe f2hkw1w f3rmtva f1ewtqcl fyind8e f1k6fduh f1w7gpdv fk6fouc fjoy568 figsok6 f1hu3pq6 f11qmguv f19f4twv f1tyq0we f1g0x7ka fhxju0i f1qch9an f1cnd47f fqv5qza f1vmzxwi f1o700av f13mvf36 f1cmlufx f9n3di6 f1ids18y f1tx3yz7 f1deo86v f1eh06m1 f1iescvh fhgqx19 f1olyrje f1p93eir f1nev41a f1h8hb77 f1lqvz6u f10aw75t fsle3fq f17ae5zn" href="mailto:ccasey@usasean.org" rel="noreferrer noopener" target="_blank" title="mailto:ccasey@usasean.org">ccasey@usasean.org</a><span style="font-size: inherit\;">).</span></span>
LOCATION:Hanoi\, Vietnam
UID:e.9078.9238
SEQUENCE:3
DTSTAMP:20260422T061128Z
URL:http://usasean.memberzone.com/events/details/vietnam-defense-security-procurement-workshop-9238
END:VEVENT

END:VCALENDAR
