BEGIN:VCALENDAR
VERSION:2.0
PRODID:-//ChamberMaster//Event Calendar 2.0//EN
METHOD:PUBLISH
X-PUBLISHED-TTL:P3D
REFRESH-INTERVAL:P3D
CALSCALE:GREGORIAN
BEGIN:VEVENT
DTSTART:20180530T020000Z
DTEND:20180530T030000Z
X-MICROSOFT-CDO-ALLDAYEVENT:FALSE
SUMMARY:Vietnam Cybersecurity Law Update
DESCRIPTION:Call to review status of Vietnam Cybersecurity Draft Law
X-ALT-DESC;FMTTYPE=text/html:Call to review status of Vietnam Cybersecurity Draft Law
LOCATION:
UID:e.9078.6581
SEQUENCE:3
DTSTAMP:20260419T220247Z
URL:http://usasean.memberzone.com/events/details/vietnam-cybersecurity-law-update-6581
END:VEVENT

END:VCALENDAR
