BEGIN:VCALENDAR
VERSION:2.0
PRODID:-//ChamberMaster//Event Calendar 2.0//EN
METHOD:PUBLISH
X-PUBLISHED-TTL:P3D
REFRESH-INTERVAL:P3D
CALSCALE:GREGORIAN
BEGIN:VEVENT
DTSTART:20140115T010000Z
DTEND:20140115T020000Z
X-MICROSOFT-CDO-ALLDAYEVENT:FALSE
SUMMARY:Vietnam Committee Quarterly Conference Call
DESCRIPTION:Vietnam Committee Quarterly Conference Call
X-ALT-DESC;FMTTYPE=text/html:Vietnam Committee Quarterly Conference Call
LOCATION:
UID:e.9078.1002
SEQUENCE:3
DTSTAMP:20260421T035653Z
URL:http://usasean.memberzone.com/events/details/vietnam-committee-quarterly-conference-call-01-14-2014-1002
END:VEVENT

END:VCALENDAR
